BEGIN:VCALENDAR
VERSION:2.0
PRODID:-//EREF - ECPv6.15.12.2//NONSGML v1.0//EN
CALSCALE:GREGORIAN
METHOD:PUBLISH
X-WR-CALNAME:EREF
X-ORIGINAL-URL:https://eref-europe.org
X-WR-CALDESC:Events for EREF
REFRESH-INTERVAL;VALUE=DURATION:PT1H
X-Robots-Tag:noindex
X-PUBLISHED-TTL:PT1H
BEGIN:VTIMEZONE
TZID:Europe/Warsaw
BEGIN:DAYLIGHT
TZOFFSETFROM:+0100
TZOFFSETTO:+0200
TZNAME:CEST
DTSTART:20230326T010000
END:DAYLIGHT
BEGIN:STANDARD
TZOFFSETFROM:+0200
TZOFFSETTO:+0100
TZNAME:CET
DTSTART:20231029T010000
END:STANDARD
BEGIN:DAYLIGHT
TZOFFSETFROM:+0100
TZOFFSETTO:+0200
TZNAME:CEST
DTSTART:20240331T010000
END:DAYLIGHT
BEGIN:STANDARD
TZOFFSETFROM:+0200
TZOFFSETTO:+0100
TZNAME:CET
DTSTART:20241027T010000
END:STANDARD
BEGIN:DAYLIGHT
TZOFFSETFROM:+0100
TZOFFSETTO:+0200
TZNAME:CEST
DTSTART:20250330T010000
END:DAYLIGHT
BEGIN:STANDARD
TZOFFSETFROM:+0200
TZOFFSETTO:+0100
TZNAME:CET
DTSTART:20251026T010000
END:STANDARD
END:VTIMEZONE
BEGIN:VEVENT
DTSTART;TZID=Europe/Warsaw:20241206T133000
DTEND;TZID=Europe/Warsaw:20241206T150000
DTSTAMP:20260420T154757
CREATED:20241118T090211Z
LAST-MODIFIED:20241118T091235Z
UID:9307-1733491800-1733497200@eref-europe.org
SUMMARY:Boosting Hydropower: Best Practices for Research
DESCRIPTION:On 6 December 2024\, from 13:30 to 15:00 CET\, the latest session in the webinar series “Boosting Hydropower: Best Practices for Research” will present the latest advances in hydropower technology. Organised by the ETIP HYDROPOWER project\, this session will introduce three EU research projects and highlight the main conclusions of the 2024 report “Hydropower and Pumped Hydropower Storage in the European Union”. \n\n\n\nFeatured Projects and Presenters: \n\n\n\n\nSHERPA: Ademir Suárez from Iberdrola Spain will present SHERPA\, which aims to develop and validate innovative technologies for the refurbishment of existing hydropower plants in order to extend and/or adapt their operating range to include lower water flows\, without compromising their lifetime\, economic viability\, and environmental and impact.\n\n\n\nRevHydro: Michel Cervantes from Luleå University of Technology\, Sweden\, will introduce RevHydro\, an initiative intended to develop and implement technologies that address the efficiency\, environmental impact\, and operational challenges faced by hydropower plants\, especially ageing ones\, due to changes in energy demand\, climate conditions\, and technological developments.\n\n\n\nSTOR-HY: Alexandre Presas from the Universitat Politècnica de Catalunya\, Spain\, will present the STOR-HY project\, which focuses on extending the lifespan of pumped storage hydropower plants and retrofitting equipment through smart monitoring and control technologies. It also targets challenging areas for storage application such as seawater and coal mines.\n\n\n\n\nThe webinar will also feature contributions from Emanuele Quaranta of the Joint Research Centre (JRC)\, who will present the main findings of the Clean Energy Technology Observatory (CETO) Hydropower 2024 report\, and Anton Schleiss from the International Commission on Large Dams (ICOLD)\, will be presenting ETIP HYDROPOWER. \n\n\n\nThis webinar will provide an opportunity to learn about the latest research developments in hydropower across Europe. \n\n\n\nHow to Join: \n\n\n\nInterested participants can register for the webinar here. \n\n\n\nYou can find the agenda also here. \n\n\n\nFor further information visit: https://etip-hydropower.eu/latest-news/webinar-boosting-hydropower-best-practices-for-research-with-sherpa-revhydro-and-stor-hy/ 
URL:https://eref-europe.org/event/boosting-hydropower-best-practices-for-research/
CATEGORIES:Events
ATTACH;FMTTYPE=image/jpeg:https://eref-europe.org/wp-content/uploads/2024/11/1731312037841.jpg
END:VEVENT
END:VCALENDAR