BEGIN:VCALENDAR
VERSION:2.0
PRODID:-//EREF - ECPv6.15.12.2//NONSGML v1.0//EN
CALSCALE:GREGORIAN
METHOD:PUBLISH
X-ORIGINAL-URL:https://eref-europe.org
X-WR-CALDESC:Events for EREF
REFRESH-INTERVAL;VALUE=DURATION:PT1H
X-Robots-Tag:noindex
X-PUBLISHED-TTL:PT1H
BEGIN:VTIMEZONE
TZID:Europe/Warsaw
BEGIN:DAYLIGHT
TZOFFSETFROM:+0100
TZOFFSETTO:+0200
TZNAME:CEST
DTSTART:20240331T010000
END:DAYLIGHT
BEGIN:STANDARD
TZOFFSETFROM:+0200
TZOFFSETTO:+0100
TZNAME:CET
DTSTART:20241027T010000
END:STANDARD
BEGIN:DAYLIGHT
TZOFFSETFROM:+0100
TZOFFSETTO:+0200
TZNAME:CEST
DTSTART:20250330T010000
END:DAYLIGHT
BEGIN:STANDARD
TZOFFSETFROM:+0200
TZOFFSETTO:+0100
TZNAME:CET
DTSTART:20251026T010000
END:STANDARD
BEGIN:DAYLIGHT
TZOFFSETFROM:+0100
TZOFFSETTO:+0200
TZNAME:CEST
DTSTART:20260329T010000
END:DAYLIGHT
BEGIN:STANDARD
TZOFFSETFROM:+0200
TZOFFSETTO:+0100
TZNAME:CET
DTSTART:20261025T010000
END:STANDARD
END:VTIMEZONE
BEGIN:VEVENT
DTSTART;TZID=Europe/Warsaw:20250922T000000
DTEND;TZID=Europe/Warsaw:20250926T235959
DTSTAMP:20260420T002735
CREATED:20241227T080342Z
LAST-MODIFIED:20241227T080344Z
UID:9344-1758499200-1758931199@eref-europe.org
SUMMARY:42nd European Photovoltaic Solar Energy Conference and Exhibition
DESCRIPTION:The EU PVSEC is the largest international Conference for Photovoltaic research\, technologies and applications and at the same time a PV Industry Exhibition\, where specialized PV Industry presents technologies\, innovations and new concepts in the upstream PV sector. It gathers the global PV community to present and discuss the latest developments in Photovoltaics\, to network and to conduct business. It is the world-renowned science-to-science and science-to-industry platform uniquely focused on the global PV Solar sector. The conference scientific programme is coordinated by the European Commission Joint Research Centre. \n\n\n\nThe over 40 year long history and the diverse programme of the EU PVSEC makes it a landmark event in the scientific PV sector. \n\n\n\nFor 2025\, we are more than delighted to welcome you in person from22 – 26 September in Bilbao\, Spain. \n\n\n\nFor further information visit: EU PVSEC
URL:https://eref-europe.org/event/42nd-european-photovoltaic-solar-energy-conference-and-exhibition/
CATEGORIES:Events
ATTACH;FMTTYPE=image/jpeg:https://eref-europe.org/wp-content/uploads/2024/12/EU-PVSEC-2025-banner_600x400px_PVA.jpg
END:VEVENT
BEGIN:VEVENT
DTSTART;TZID=Europe/Warsaw:20250924T000000
DTEND;TZID=Europe/Warsaw:20250925T235959
DTSTAMP:20260420T002735
CREATED:20250514T092713Z
LAST-MODIFIED:20250514T092715Z
UID:9563-1758672000-1758844799@eref-europe.org
SUMMARY:28. Anwenderforum Kleinwasserkraft
DESCRIPTION:By focusing on practical experience and application\, the forum fills an important gap in the further development of small hydropower. Another special feature is the cross-border gathering of experts from across the German-speaking Alpine region. \n\n\n\nThe program addresses key aspects of modern small hydropower: \n\n\n\n\nConstruction and modernization of plants\n\n\n\n\n\nNew developments in technology and material science\n\n\n\n\n\nInnovative turbine concepts beyond traditional applications\n\n\n\n\n\nIntegration of fish protection measures\n\n\n\n\n\nAdvances in drive systems\n\n\n\n\nSeptember 24–25\, 2025Forum Landquart\, Switzerland \n\n\n\nFor further information visit: Anwenderforum Kleinwasserkraft
URL:https://eref-europe.org/event/28-anwenderforum-kleinwasserkraft/
CATEGORIES:Events
ATTACH;FMTTYPE=image/png:https://eref-europe.org/wp-content/uploads/2025/05/Banner_WAS_2025_600x200.png
END:VEVENT
END:VCALENDAR