BEGIN:VCALENDAR
VERSION:2.0
PRODID:-//EREF - ECPv6.15.12.2//NONSGML v1.0//EN
CALSCALE:GREGORIAN
METHOD:PUBLISH
X-WR-CALNAME:EREF
X-ORIGINAL-URL:https://eref-europe.org
X-WR-CALDESC:Events for EREF
REFRESH-INTERVAL;VALUE=DURATION:PT1H
X-Robots-Tag:noindex
X-PUBLISHED-TTL:PT1H
BEGIN:VTIMEZONE
TZID:Europe/Warsaw
BEGIN:DAYLIGHT
TZOFFSETFROM:+0100
TZOFFSETTO:+0200
TZNAME:CEST
DTSTART:20250330T010000
END:DAYLIGHT
BEGIN:STANDARD
TZOFFSETFROM:+0200
TZOFFSETTO:+0100
TZNAME:CET
DTSTART:20251026T010000
END:STANDARD
BEGIN:DAYLIGHT
TZOFFSETFROM:+0100
TZOFFSETTO:+0200
TZNAME:CEST
DTSTART:20260329T010000
END:DAYLIGHT
BEGIN:STANDARD
TZOFFSETFROM:+0200
TZOFFSETTO:+0100
TZNAME:CET
DTSTART:20261025T010000
END:STANDARD
BEGIN:DAYLIGHT
TZOFFSETFROM:+0100
TZOFFSETTO:+0200
TZNAME:CEST
DTSTART:20270328T010000
END:DAYLIGHT
BEGIN:STANDARD
TZOFFSETFROM:+0200
TZOFFSETTO:+0100
TZNAME:CET
DTSTART:20271031T010000
END:STANDARD
END:VTIMEZONE
BEGIN:VEVENT
DTSTART;TZID=Europe/Warsaw:20260416T090000
DTEND;TZID=Europe/Warsaw:20260416T170000
DTSTAMP:20260419T155734
CREATED:20260408T062608Z
LAST-MODIFIED:20260408T063101Z
UID:10148-1776330000-1776358800@eref-europe.org
SUMMARY:Masterclass | Biomethane trading
DESCRIPTION:This Masterclass covers the regulatory framework of Europe’s most relevant strategies and legislation concerning the trade of biomethane. It is recommended to portfolio managers\, public affairs managers\, sales traders\, technical suppliers\, investors\, business developers\, biogas plant managers\, operational managers\, plant operators\, project developers\, sustainability managers\, legal affairs employees\, environmental managers\, energy consultants\, (energy and sustainability) policy advisors\, finance managers and (legal and regulatory) compliance officers. \n\n\n\nWhat are the advantages? \n\n\n\n\nGain insight into the role of biogas within sustainable energy solutions and the European economy.\n\n\n\nGet a clear overview of the regulatory framework for trading biomethane in Europe.\n\n\n\nUnderstand the role and impact of Proof of Sustainability.\n\n\n\nExplore the Guarantee of Origin (GO) system in Europe.\n\n\n\nLearn the differences between Mass Balance and Book & Claim approaches.\n\n\n\nExplore the opportunities and risks in trading Guarantees of Origin (GO) with a focus on market entry requirements and cross-border value.\n\n\n\nIdentify the key elements of an efficient trade system.\n\n\n\nDiscover the benefits of cross-border trade for the biogas sector.\n\n\n\nBenefit from examples of real-life case studies.\n\n\n\nEngage with experts to assess how trade strategies can strengthen your company’s market position.\n\n\n\nBenefit from the in-person approach which offers the opportunity to discuss best practice experiences with experts and fellow course participants.
URL:https://eref-europe.org/event/masterclass-biomethane-trading/
LOCATION:European Renewable Gas Training Centre (EBA Headquarters)\, Brussels
CATEGORIES:Events
ATTACH;FMTTYPE=image/png:https://eref-europe.org/wp-content/uploads/2026/04/Masterclass-Trade-Banner.png
END:VEVENT
BEGIN:VEVENT
DTSTART;TZID=Europe/Warsaw:20260421T000000
DTEND;TZID=Europe/Warsaw:20260424T235959
DTSTAMP:20260419T155734
CREATED:20260408T064537Z
LAST-MODIFIED:20260408T064720Z
UID:10155-1776729600-1777075199@eref-europe.org
SUMMARY:ARE Energy Access Investment Forum 2026
DESCRIPTION:The ARE Energy Access Investment Forum (EAIF) is the top annual investment event\, fostering partnerships for the purpose of renewable electrification\, including energy access\, productive use\, commercial & industrial uses of power and the green energy transition. \n\n\n\nWith a track-record since 2016\, ARE aims to mobilise 500 people in-person and over 1\,000 people virtually for a total of more than 1\,500 participants. The Forum will have interpretation in French and English. \n\n\n\nEAIF 2026 is organised by the Alliance for Rural Electrification (ARE)\, and co-hosted by the European Union through its Global Gateway strategy. The Forum is supported by GET.invest\, a leading European programme that mobilises investment in clean energy\, co-funded by the European Union\, Germany\, Norway\, the Netherlands\, Sweden and Austria. \n\n\n\nWith the patronage of the Ministry of Energy and Petroleum of Kenya\, this special EAIF edition will bring together private and public investors\, industry leaders from both the energy and related sectors\, utilities and government officials\, for an exclusive EAIF experience.
URL:https://eref-europe.org/event/are-energy-access-investment-forum-2026/
LOCATION:Nairobi\, KenyaSafari Park Hotel
CATEGORIES:Events
ATTACH;FMTTYPE=image/jpeg:https://eref-europe.org/wp-content/uploads/2026/04/EAIF-2026-email-card.jpg
END:VEVENT
END:VCALENDAR